BEGIN:VCALENDAR
VERSION:2.0
PRODID:-//Silver Knights - ECPv6.7.0//NONSGML v1.0//EN
CALSCALE:GREGORIAN
METHOD:PUBLISH
X-ORIGINAL-URL:https://silverknights.rutgers.edu
X-WR-CALDESC:Events for Silver Knights
REFRESH-INTERVAL;VALUE=DURATION:PT1H
X-Robots-Tag:noindex
X-PUBLISHED-TTL:PT1H
BEGIN:VTIMEZONE
TZID:UTC
BEGIN:STANDARD
TZOFFSETFROM:+0000
TZOFFSETTO:+0000
TZNAME:UTC
DTSTART:20240101T000000
END:STANDARD
END:VTIMEZONE
BEGIN:VEVENT
DTSTART;TZID=UTC:20240906T113000
DTEND;TZID=UTC:20240906T140000
DTSTAMP:20260424T041459
CREATED:20240824T135316Z
LAST-MODIFIED:20240827T132200Z
UID:1074-1725622200-1725631200@silverknights.rutgers.edu
SUMMARY:Buffet Lunch Rutgers Club September 6
DESCRIPTION:Join the Silver Knights for buffet lunch at the Rutgers Club on Friday\, September 6\, 2024\, 11:45 am – 1:45 pm \n$31 includes hot & cold buffet\, soft drinks\, desserts & coffee plus gratuity. (Adult beverages are available but not included.) \nSpace is limited; advance reservation and pre-payment are required. \nPlease reply to this email ASAP to reserve your spot and then Zelle your $31 payment to: borsody@scarletmail.rutgers.edu \nI will email you when I receive your payment. If you prefer\, you may also mail a $31 check or money order payable to Silver Knights to: \nFlorence Borsody\, President Silver Knights\, send email for mailing address. Your payment is refundable if you cancel by September 4th. \nAvoid a parking citation once you arrive by visiting the hostess desk and using the iPad to register your vehicle.
URL:https://silverknights.rutgers.edu/event/buffet-lunch-rutgers-club-september-6/
LOCATION:http://rutgersclub.rutgers.edu/\, 85 Avenue E\,\, Piscataway\, NJ\, NJ\, 08854\, United States
CATEGORIES:Social Event
ORGANIZER;CN="Rutgers Silver Knights":MAILTO:borsody@scarletmail.rutgers.edu
END:VEVENT
END:VCALENDAR