BEGIN:VCALENDAR
VERSION:2.0
PRODID:-//Silver Knights - ECPv6.7.0//NONSGML v1.0//EN
CALSCALE:GREGORIAN
METHOD:PUBLISH
X-ORIGINAL-URL:https://silverknights.rutgers.edu
X-WR-CALDESC:Events for Silver Knights
REFRESH-INTERVAL;VALUE=DURATION:PT1H
X-Robots-Tag:noindex
X-PUBLISHED-TTL:PT1H
BEGIN:VTIMEZONE
TZID:UTC
BEGIN:STANDARD
TZOFFSETFROM:+0000
TZOFFSETTO:+0000
TZNAME:UTC
DTSTART:20250101T000000
END:STANDARD
END:VTIMEZONE
BEGIN:VEVENT
DTSTART;TZID=UTC:20251119T123000
DTEND;TZID=UTC:20251119T150000
DTSTAMP:20260421T235806
CREATED:20250724T111024Z
LAST-MODIFIED:20250724T111024Z
UID:1205-1763555400-1763564400@silverknights.rutgers.edu
SUMMARY:Program & Social
DESCRIPTION:Wednesday\, Nov. 19\, 2025 AARP Program & Social – 12:30 refreshments\, 1:00 pm speaker\, Free\n“Social Isolation” presented by Jessica Dale. Social isolation has reached epidemic proportions and has a negative impact on our emotional and physical health. This program is more a workshop than a lecture that: Raise awareness around social isolation and loneliness\, transform the way in which community members view social connections\, and empower older adults with tools and motivation to help build and maintain strong support networks and meaningful relationships. Attendees will put pen to paper to develop a plan to maintain and expand their social connections to make their lives more full and avoid isolation.  Silver Knights-Social Isolation November Flyer \nContact: FLORENCE BORSODY borsody@scarletmail.rutgers.edu
URL:https://silverknights.rutgers.edu/event/program-social/
LOCATION:ASBII\, 57 US Highway 1\, New Brunswick\, NJ
END:VEVENT
END:VCALENDAR