BEGIN:VCALENDAR
VERSION:2.0
PRODID:-//Silver Knights - ECPv6.7.0//NONSGML v1.0//EN
CALSCALE:GREGORIAN
METHOD:PUBLISH
X-ORIGINAL-URL:https://silverknights.rutgers.edu
X-WR-CALDESC:Events for Silver Knights
REFRESH-INTERVAL;VALUE=DURATION:PT1H
X-Robots-Tag:noindex
X-PUBLISHED-TTL:PT1H
BEGIN:VTIMEZONE
TZID:UTC
BEGIN:STANDARD
TZOFFSETFROM:+0000
TZOFFSETTO:+0000
TZNAME:UTC
DTSTART:20250101T000000
END:STANDARD
END:VTIMEZONE
BEGIN:VEVENT
DTSTART;TZID=UTC:20250913T113000
DTEND;TZID=UTC:20250913T170000
DTSTAMP:20260422T154809
CREATED:20250724T103135Z
LAST-MODIFIED:20250724T111211Z
UID:1191-1757763000-1757782800@silverknights.rutgers.edu
SUMMARY:RU Football w/Tailgate
DESCRIPTION:RU Football\, 3:30 pm Rutgers vs Norfolk\, with Parker House at Stonegate Tailgate 11:30 am to 2:00 pm (443 River Rd\nHighland Park). Game at Rutgers Stadium: 3:30 pm.\nContact: Flo Borsody\, borsody@scarletmail.rutgers.edu
URL:https://silverknights.rutgers.edu/event/ru-football-w-tailgate/
CATEGORIES:Social Event
ORGANIZER;CN="Rutgers Silver Knights":MAILTO:borsody@scarletmail.rutgers.edu
END:VEVENT
BEGIN:VEVENT
DTSTART;TZID=UTC:20250925T120000
DTEND;TZID=UTC:20250925T143000
DTSTAMP:20260422T154809
CREATED:20250724T112123Z
LAST-MODIFIED:20250724T112123Z
UID:1209-1758801600-1758810600@silverknights.rutgers.edu
SUMMARY:Program Understanding Medicare & Social
DESCRIPTION:Thursday\, Sept. 25\, 2025 AARP Program & Social – Free\,  11:30 refreshments\, Noon Speaker “Medicare 101” This presentation by Richard Satyavan\nfocuses on building an understanding of the basics of the Medicare program.  Contact: FLORENCE BORSODY\, borsody@scarletmail.rutgers.edu \nSilver Knights- Understanding Medicare \n 
URL:https://silverknights.rutgers.edu/event/program-understanding-medicare-social/
LOCATION:ASBII\, 57 US Highway 1\, New Brunswick\, NJ
END:VEVENT
END:VCALENDAR